BEGIN:VCALENDAR
VERSION:2.0
PRODID:-//Qalipu - ECPv4.5.13//NONSGML v1.0//EN
CALSCALE:GREGORIAN
METHOD:PUBLISH
X-WR-CALNAME:Qalipu
X-ORIGINAL-URL:https://qalipu.ca
X-WR-CALDESC:Events for Qalipu
BEGIN:VEVENT
DTSTART;TZID=UTC-3.5:20180224T094500
DTEND;TZID=UTC-3.5:20180224T133000
DTSTAMP:20260419T190104
CREATED:20180219T145333Z
LAST-MODIFIED:20180219T145333Z
UID:8153-1519465500-1519479000@qalipu.ca
SUMMARY:Rally Protest - Ottawa
DESCRIPTION:
URL:https://qalipu.ca/event/rally-protest-ottawa/
LOCATION:453 Albert Street\, Ottawa\, ON\, K1R 7X4\, Canada
CATEGORIES:General
END:VEVENT
END:VCALENDAR