BEGIN:VCALENDAR
VERSION:2.0
PRODID:-//Qalipu - ECPv4.5.13//NONSGML v1.0//EN
CALSCALE:GREGORIAN
METHOD:PUBLISH
X-WR-CALNAME:Qalipu
X-ORIGINAL-URL:https://qalipu.ca
X-WR-CALDESC:Events for Qalipu
BEGIN:VEVENT
DTSTART;TZID=UTC-3.5:20170928T170000
DTEND;TZID=UTC-3.5:20170928T180000
DTSTAMP:20260419T181254
CREATED:20170925T140158Z
LAST-MODIFIED:20170925T141403Z
UID:7344-1506618000-1506621600@qalipu.ca
SUMMARY:RCMP Career Presentation - Gander
DESCRIPTION:This RCMP presentation offers you the chance to hear first-hand from our recruiters about the exciting career opportunity that awaits you. You’ll also get into the details of the recruiting process including the requirements and expectations for applying and how to prepare for each stage. If you’re still not sure and want to know more\, this is the presentation for you. \nCareer Presentation                                                   Thursday\, September 28\, 2017 at 5:00 pm \nGander RCMP Detachment \n450 James Blvd.                                                          Duration: 1 hour\nGander\, NL                                                                  Language of event: English\nA1V 1W7 \nTo Register: \nCall 1-877-726-7472 or email nlrecruiting@rcmp-grc.gc.ca \nBe sure to include the following information: \n\nYour name\nEmail address or phone number\nDate and location of presentation\n\nPlease arrive 15 minutes prior to presentation with identification \n
URL:https://qalipu.ca/event/rcmp-career-presentation-gander/
LOCATION:450 James Blvd.\, Gander\, NL\, A1V 1W7\, Canada
CATEGORIES:General
END:VEVENT
END:VCALENDAR