BEGIN:VCALENDAR
VERSION:2.0
PRODID:-//Qalipu - ECPv4.5.13//NONSGML v1.0//EN
CALSCALE:GREGORIAN
METHOD:PUBLISH
X-WR-CALNAME:Qalipu
X-ORIGINAL-URL:https://qalipu.ca
X-WR-CALDESC:Events for Qalipu
BEGIN:VEVENT
DTSTART;TZID=UTC-3.5:20171004T173000
DTEND;TZID=UTC-3.5:20171004T183000
DTSTAMP:20260419T181614
CREATED:20170925T140441Z
LAST-MODIFIED:20170925T141442Z
UID:7347-1507138200-1507141800@qalipu.ca
SUMMARY:RCMP Career Presentation - St Johns
DESCRIPTION:This RCMP presentation offers you the chance to hear first-hand from our recruiters about the exciting career opportunity that awaits you. You’ll also get into the details of the recruiting process including the requirements and expectations for applying and how to prepare for each stage. If you’re still not sure and want to know more\, this is the presentation for you. \nCareer Presentation                                                   Wednesday\, October 4\, 2017 at 5:30 pm \nMemorial University\nEducation Building\, Room 4011                                 Duration: 1 hour\nSt. John’s\, NL                                                               Language of event: English\nA1C 5S7 \nTo Register: \nCall 1-877-726-7472 or email nlrecruiting@rcmp-grc.gc.ca \nBe sure to include the following information: \n\nYour name\nEmail address or phone number\nDate and location of presentation\n\nPlease arrive 15 minutes prior to presentation with identification \n
URL:https://qalipu.ca/event/rcmp-career-presentation-st-johns-2/
CATEGORIES:General
END:VEVENT
END:VCALENDAR