BEGIN:VCALENDAR
VERSION:2.0
PRODID:-//Qalipu - ECPv4.5.13//NONSGML v1.0//EN
CALSCALE:GREGORIAN
METHOD:PUBLISH
X-WR-CALNAME:Qalipu
X-ORIGINAL-URL:https://qalipu.ca
X-WR-CALDESC:Events for Qalipu
BEGIN:VEVENT
DTSTART;TZID=UTC-3.5:20170927T100000
DTEND;TZID=UTC-3.5:20170927T150000
DTSTAMP:20260420T041346
CREATED:20170925T134815Z
LAST-MODIFIED:20170925T141516Z
UID:7339-1506506400-1506524400@qalipu.ca
SUMMARY:RCMP Career Presentation - St Johns
DESCRIPTION:This RCMP presentation offers you the chance to hear first-hand from our recruiters about the exciting career opportunity that awaits you. You’ll also get into the details of the recruiting process including the requirements and expectations for applying and how to prepare for each stage. If you’re still not sure and want to know more\, this is the presentation for you. \nMemorial University & College of the North Atlantic Career Fair \nWednesday\, September 27\, 2017 at 10:00 am \n Memorial University Field House \n17 Westerland Road                                                     Duration: 5 hours\nSt. John’s\, NL                                                               Language of event: Bilingual\nA1B 3R7 \nTo Register: \nCall 1-877-726-7472 or email nlrecruiting@rcmp-grc.gc.ca \nBe sure to include the following information: \n\nYour name\nEmail address or phone number\nDate and location of presentation\n\nPlease arrive 15 minutes prior to presentation with identification \n
URL:https://qalipu.ca/event/rcmp-career-presentation-st-johns/
LOCATION:17 Westerland Road\, St. John’s\, NL\, A1B 3R7\, Canada
CATEGORIES:General
END:VEVENT
END:VCALENDAR