BEGIN:VCALENDAR
VERSION:2.0
PRODID:-//Qalipu - ECPv4.5.13//NONSGML v1.0//EN
CALSCALE:GREGORIAN
METHOD:PUBLISH
X-WR-CALNAME:Qalipu
X-ORIGINAL-URL:https://qalipu.ca
X-WR-CALDESC:Events for Qalipu
BEGIN:VEVENT
DTSTART;TZID=UTC-3.5:20170516T180000
DTEND;TZID=UTC-3.5:20170516T180000
DTSTAMP:20260420T053007
CREATED:20170417T144234Z
LAST-MODIFIED:20170417T144234Z
UID:6568-1494957600-1494957600@qalipu.ca
SUMMARY:RCMP Career Presentation
DESCRIPTION:
URL:https://qalipu.ca/event/rcmp-career-presentation/
LOCATION:1 Church Street\, Corner Brook\, NL\, A2H 2Z4\, Canada
CATEGORIES:General
ATTACH;FMTTYPE=image/jpeg:https://qalipu.ca/qalipu/wp-content/uploads/2017/04/JPEG-Poster.jpg
END:VEVENT
END:VCALENDAR