BEGIN:VCALENDAR
VERSION:2.0
PRODID:-//Qalipu - ECPv4.5.13//NONSGML v1.0//EN
CALSCALE:GREGORIAN
METHOD:PUBLISH
X-WR-CALNAME:Qalipu
X-ORIGINAL-URL:https://qalipu.ca
X-WR-CALDESC:Events for Qalipu
BEGIN:VEVENT
DTSTART;VALUE=DATE:20170124
DTEND;VALUE=DATE:20170124
DTSTAMP:20260419T181614
CREATED:20170106T154133Z
LAST-MODIFIED:20170106T154133Z
UID:5842-1485216000-1485302399@qalipu.ca
SUMMARY:Reconciliation Through Indigenous Education
DESCRIPTION:
URL:https://qalipu.ca/event/reconciliation-through-indigenous-education/
CATEGORIES:General
ATTACH;FMTTYPE=image/jpeg:https://qalipu.ca/qalipu/wp-content/uploads/2017/01/Reconciliation-Through-Indigenous-Education_Page_1.jpg
END:VEVENT
END:VCALENDAR