BEGIN:VCALENDAR
VERSION:2.0
PRODID:-//Qalipu - ECPv4.5.13//NONSGML v1.0//EN
CALSCALE:GREGORIAN
METHOD:PUBLISH
X-WR-CALNAME:Qalipu
X-ORIGINAL-URL:https://qalipu.ca
X-WR-CALDESC:Events for Qalipu
BEGIN:VEVENT
DTSTART;TZID=UTC-2.5:20160827T090000
DTEND;TZID=UTC-2.5:20160827T090000
DTSTAMP:20260420T030222
CREATED:20160815T181945Z
LAST-MODIFIED:20160815T181945Z
UID:5120-1472288400-1472288400@qalipu.ca
SUMMARY:Regular Meeting of Council
DESCRIPTION:A regular meeting of the Qalipu Chief and Council will take place on August 27\, 2016 starting at 9:00 am in the Qalipu Community Room at 1 Church Street\, Corner Brook.  This meeting is open to all members of the Qalipu First Nation.  We request that members preregister if possible to allow us to plan for seating and refreshments.  Please note that you will be asked to sign in at the meeting and present your registration card or letter. \nTo preregister please contact Mabel MacDonald at 634-5111 or email mmacdonald@qalipu.ca by August 24th. \n
URL:https://qalipu.ca/event/regular-meeting-of-council/
LOCATION:1 Church Street\, Corner Brook\, NL\, A2H 2Z4\, Canada
CATEGORIES:Ward Meetings
ATTACH;FMTTYPE=image/jpeg:https://qalipu.ca/qalipu/wp-content/uploads/2016/08/meeting.jpeg
END:VEVENT
END:VCALENDAR