BEGIN:VCALENDAR
VERSION:2.0
PRODID:-//Qalipu - ECPv4.5.13//NONSGML v1.0//EN
CALSCALE:GREGORIAN
METHOD:PUBLISH
X-WR-CALNAME:Qalipu
X-ORIGINAL-URL:https://qalipu.ca
X-WR-CALDESC:Events for Qalipu
BEGIN:VEVENT
DTSTART;VALUE=DATE:20190225
DTEND;VALUE=DATE:20190226
DTSTAMP:20260419T214711
CREATED:20190208T183156Z
LAST-MODIFIED:20190208T183156Z
UID:10214-1551052800-1551225599@qalipu.ca
SUMMARY:RNC Information Session - Feb 25\, 2019
DESCRIPTION:
URL:https://qalipu.ca/event/rnc-information-session-feb-25-2019/
CATEGORIES:General
ATTACH;FMTTYPE=image/jpeg:https://qalipu.ca/qalipu/wp-content/uploads/2019/02/Recruitment-Poster-2019-Qalipu-Office-CB.jpg
END:VEVENT
END:VCALENDAR