BEGIN:VCALENDAR
VERSION:2.0
PRODID:-//Qalipu - ECPv4.5.13//NONSGML v1.0//EN
CALSCALE:GREGORIAN
METHOD:PUBLISH
X-WR-CALNAME:Qalipu
X-ORIGINAL-URL:https://qalipu.ca
X-WR-CALDESC:Events for Qalipu
BEGIN:VEVENT
DTSTART;TZID=UTC-2.5:20161003T153000
DTEND;TZID=UTC-2.5:20161003T153000
DTSTAMP:20260420T011341
CREATED:20160921T162226Z
LAST-MODIFIED:20161003T180156Z
UID:5269-1475508600-1475508600@qalipu.ca
SUMMARY:RNC Recruitment Information Session
DESCRIPTION:
URL:https://qalipu.ca/event/rnc-recruitment-information-session/
LOCATION:1 Church Street\, Corner Brook\, NL\, A2H 2Z4\, Canada
CATEGORIES:General
ATTACH;FMTTYPE=image/jpeg:https://qalipu.ca/qalipu/wp-content/uploads/2016/09/Qalipu-Corner-Brook.jpg
END:VEVENT
END:VCALENDAR