BEGIN:VCALENDAR
VERSION:2.0
PRODID:-//Qalipu - ECPv4.5.13//NONSGML v1.0//EN
CALSCALE:GREGORIAN
METHOD:PUBLISH
X-WR-CALNAME:Qalipu
X-ORIGINAL-URL:https://qalipu.ca
X-WR-CALDESC:Events for Qalipu
BEGIN:VEVENT
DTSTART;TZID=UTC-2.5:20161002T183000
DTEND;TZID=UTC-2.5:20161002T183000
DTSTAMP:20260419T154154
CREATED:20160929T154752Z
LAST-MODIFIED:20160929T154752Z
UID:5293-1475433000-1475433000@qalipu.ca
SUMMARY:Second Annual Sisters in Spirit Vigil
DESCRIPTION:The Sisters in Spirit Vigil is an activity to honor missing and murdered Aboriginal Women and Girls that is being hosted by the Indian Cove Women’s Circle\, in St. George’s. This powerful event will take place at the Bay St. George Cultural Center\,329 Main Street\, on Sunday\, October 2\, starting at 6:30 pm. \nIf you are planning on attending\, please feel free to bring along a flameless candle for the Vigil. If you have access to drums or rattles\, please bring them along.  We would be honored by your presence\, and please spread the word as this is an open event. \n
URL:https://qalipu.ca/event/second-annual-sisters-in-spirit-vigil/
LOCATION:329 Main Street\, St. George\, NL\, Canada
ATTACH;FMTTYPE=image/png:https://qalipu.ca/qalipu/wp-content/uploads/2016/09/Sisters-in-spirit-vigil.png
END:VEVENT
END:VCALENDAR