BEGIN:VCALENDAR
VERSION:2.0
PRODID:-//Qalipu - ECPv4.5.13//NONSGML v1.0//EN
CALSCALE:GREGORIAN
METHOD:PUBLISH
X-WR-CALNAME:Qalipu
X-ORIGINAL-URL:https://qalipu.ca
X-WR-CALDESC:Events for Qalipu
BEGIN:VEVENT
DTSTART;TZID=UTC-3.5:20171019T100000
DTEND;TZID=UTC-3.5:20171019T140000
DTSTAMP:20260420T210840
CREATED:20171017T124301Z
LAST-MODIFIED:20171017T124301Z
UID:7454-1508407200-1508421600@qalipu.ca
SUMMARY:Seniors Tea and Social - People of the Dawn
DESCRIPTION:For more information\, please visit the People of the Dawn Friendship Centre website here: http://pdifc.com/ \n
URL:https://qalipu.ca/event/seniors-tea-and-social-people-of-the-dawn-2/
CATEGORIES:General
END:VEVENT
END:VCALENDAR