BEGIN:VCALENDAR
VERSION:2.0
PRODID:-//Qalipu - ECPv4.5.13//NONSGML v1.0//EN
CALSCALE:GREGORIAN
METHOD:PUBLISH
X-WR-CALNAME:Qalipu
X-ORIGINAL-URL:https://qalipu.ca
X-WR-CALDESC:Events for Qalipu
BEGIN:VEVENT
DTSTART;TZID=UTC-3.5:20171017T100000
DTEND;TZID=UTC-3.5:20171017T140000
DTSTAMP:20260420T155202
CREATED:20171017T122236Z
LAST-MODIFIED:20171017T123930Z
UID:7439-1508234400-1508248800@qalipu.ca
SUMMARY:Seniors Tea and Social - People of the Dawn
DESCRIPTION:For more information\, please visit the People of the Dawn Friendship Centre website here: http://pdifc.com/ \n
URL:https://qalipu.ca/event/seniors-tea-and-social-people-of-the-dawn/
CATEGORIES:General
END:VEVENT
END:VCALENDAR