BEGIN:VCALENDAR
VERSION:2.0
PRODID:-//Qalipu - ECPv4.5.13//NONSGML v1.0//EN
CALSCALE:GREGORIAN
METHOD:PUBLISH
X-WR-CALNAME:Qalipu
X-ORIGINAL-URL:https://qalipu.ca
X-WR-CALDESC:Events for Qalipu
BEGIN:VEVENT
DTSTART;TZID=UTC-3.5:20221213T190000
DTEND;TZID=UTC-3.5:20221213T190000
DTSTAMP:20260423T213900
CREATED:20221130T131219Z
LAST-MODIFIED:20221213T181639Z
UID:16179-1670958000-1670958000@qalipu.ca
SUMMARY:Service Members Agreement and Referendum – Virtual Engagement Session
DESCRIPTION:Community Tour\nService Members Agreement and Referendum \n\nDecember 1st Virtual Engagement Session at 2:00 PM\nDecember 3rd Degrau at Migmaw Center\, 811 Oceanview Dr.\, at 2:00 PM\nDecember 3rd Stephenville at DSB Fowlow Lecture Threatre at 6:00 PM\nDecember 4th Flat Bay at the Peoples Complex at 2:00 PM\nDecember 4th St. George’s at the Royal Canadian Legion at 6:00 PM\nDecember 11th Grand Falls-Windsor at the Mount Peyton Hotel at 2:00 PM\nDecember 11th Glenwood at Glenwood Town Hall at 6:00 PM\nDecember 12th Gander at the Quality Hotel at 6:00 PM\nDecember 13th Virtual Engagement Session at 7:00 PM (Event Link)\nDecember 14th Corner Brook at the Glynmill Inn Grenfell Room at 6:00 PM\nDecember 15th Benoit’s Cove at the Town Hall at 6:00 PM\n\n
URL:https://qalipu.ca/event/service-members-agreement-and-referendum-virtual-engagement-session-2/
CATEGORIES:General
ATTACH;FMTTYPE=image/png:https://qalipu.ca/qalipu/wp-content/uploads/2022/11/MicrosoftTeams-image-4.png
END:VEVENT
END:VCALENDAR