BEGIN:VCALENDAR
VERSION:2.0
PRODID:-//Qalipu - ECPv4.5.13//NONSGML v1.0//EN
CALSCALE:GREGORIAN
METHOD:PUBLISH
X-WR-CALNAME:Qalipu
X-ORIGINAL-URL:https://qalipu.ca
X-WR-CALDESC:Events for Qalipu
BEGIN:VEVENT
DTSTART;TZID=UTC-2.5:20161118T193000
DTEND;TZID=UTC-2.5:20161118T193000
DTSTAMP:20260420T055034
CREATED:20161026T184905Z
LAST-MODIFIED:20161108T165342Z
UID:5464-1479497400-1479497400@qalipu.ca
SUMMARY:Spirit Song Festival Gala
DESCRIPTION:
URL:https://qalipu.ca/event/spirit-song-festival-gala/
CATEGORIES:General
ATTACH;FMTTYPE=image/jpeg:https://qalipu.ca/qalipu/wp-content/uploads/2016/10/Danielle-Poster.jpg
END:VEVENT
END:VCALENDAR