BEGIN:VCALENDAR
VERSION:2.0
PRODID:-//Qalipu - ECPv4.5.13//NONSGML v1.0//EN
CALSCALE:GREGORIAN
METHOD:PUBLISH
X-WR-CALNAME:Qalipu
X-ORIGINAL-URL:https://qalipu.ca
X-WR-CALDESC:Events for Qalipu
BEGIN:VEVENT
DTSTART;TZID=UTC-2.5:20161119T130000
DTEND;TZID=UTC-2.5:20161119T160000
DTSTAMP:20260420T015437
CREATED:20161026T185032Z
LAST-MODIFIED:20161026T185032Z
UID:5468-1479560400-1479571200@qalipu.ca
SUMMARY:Spirit Song Festival Mawiomi
DESCRIPTION:
URL:https://qalipu.ca/event/spirit-song-festival-mawiomi/
CATEGORIES:General
ATTACH;FMTTYPE=image/jpeg:https://qalipu.ca/qalipu/wp-content/uploads/2016/10/Danielle-Poster.jpg
END:VEVENT
END:VCALENDAR