BEGIN:VCALENDAR
VERSION:2.0
PRODID:-//Qalipu - ECPv4.5.13//NONSGML v1.0//EN
CALSCALE:GREGORIAN
METHOD:PUBLISH
X-WR-CALNAME:Qalipu
X-ORIGINAL-URL:https://qalipu.ca
X-WR-CALDESC:Events for Qalipu
BEGIN:VEVENT
DTSTART;TZID=UTC-2.5:20160924T140000
DTEND;TZID=UTC-2.5:20160924T140000
DTSTAMP:20260420T172720
CREATED:20160920T132154Z
LAST-MODIFIED:20160920T132154Z
UID:5258-1474725600-1474725600@qalipu.ca
SUMMARY:Spirit Wind Drumming Workshops
DESCRIPTION:
URL:https://qalipu.ca/event/spirit-wind-drumming-workshops/
CATEGORIES:General
ATTACH;FMTTYPE=image/jpeg:https://qalipu.ca/qalipu/wp-content/uploads/2016/09/bfn-Drumming-Poster-2016.jpg
END:VEVENT
END:VCALENDAR