BEGIN:VCALENDAR
VERSION:2.0
PRODID:-//Qalipu - ECPv4.5.13//NONSGML v1.0//EN
CALSCALE:GREGORIAN
METHOD:PUBLISH
X-WR-CALNAME:Qalipu
X-ORIGINAL-URL:https://qalipu.ca
X-WR-CALDESC:Events for Qalipu
BEGIN:VEVENT
DTSTART;TZID=UTC-3.5:20171020T190000
DTEND;TZID=UTC-3.5:20171020T210000
DTSTAMP:20260420T110442
CREATED:20171017T122847Z
LAST-MODIFIED:20171017T124057Z
UID:7446-1508526000-1508533200@qalipu.ca
SUMMARY:St.George's Concert - People of the Dawn
DESCRIPTION:For more information\, please visit the People of the Dawn Friendship Centre website here: http://pdifc.com/ \n
URL:https://qalipu.ca/event/st-georges-concert-people-of-the-dawn/
CATEGORIES:General
END:VEVENT
END:VCALENDAR