BEGIN:VCALENDAR
VERSION:2.0
PRODID:-//Qalipu - ECPv4.5.13//NONSGML v1.0//EN
CALSCALE:GREGORIAN
METHOD:PUBLISH
X-WR-CALNAME:Qalipu
X-ORIGINAL-URL:https://qalipu.ca
X-WR-CALDESC:Events for Qalipu
BEGIN:VEVENT
DTSTART;VALUE=DATE:20180621
DTEND;VALUE=DATE:20180621
DTSTAMP:20260421T130309
CREATED:20180531T114742Z
LAST-MODIFIED:20180531T115001Z
UID:8748-1529539200-1529625599@qalipu.ca
SUMMARY:St. George's Indian Band Celebrates National Aboriginal Day
DESCRIPTION:The St. George’s Indian Band will once again be celebrating National Aboriginal Day activities in St. St. George’s On Thursday June 21\,2018 \n6:00 am. Sunrise Ceremony :Siki Bennett Rexplex\n7:00 am. Community Breakfast : Royal Canadian Legion\n10:00 Spirit Walk Steel Mountain\n11:00- 3:00 Ktaqmkuk Mi’kmaq Museum open doors.\n11:00 OLOM School visit\n2:00 Elder/ Senior Social.Parish Hall \nActivities will also be taking place at The People of the Dawn Friendship Centre St. George’s throughout the day.\nHappy Aboriginal Day Everyone from the St. George’s Indian Band.\nChief and council \n
URL:https://qalipu.ca/event/st-georges-indian-band-celebrates-national-aboriginal-day/
CATEGORIES:General
ATTACH;FMTTYPE=image/jpeg:https://qalipu.ca/qalipu/wp-content/uploads/2018/05/084.jpg
END:VEVENT
END:VCALENDAR