BEGIN:VCALENDAR
VERSION:2.0
PRODID:-//Qalipu - ECPv4.5.13//NONSGML v1.0//EN
CALSCALE:GREGORIAN
METHOD:PUBLISH
X-WR-CALNAME:Qalipu
X-ORIGINAL-URL:https://qalipu.ca
X-WR-CALDESC:Events for Qalipu
BEGIN:VEVENT
DTSTART;TZID=UTC-2.5:20161120T140000
DTEND;TZID=UTC-2.5:20161120T160000
DTSTAMP:20260419T182828
CREATED:20161103T134544Z
LAST-MODIFIED:20161103T135501Z
UID:5546-1479650400-1479657600@qalipu.ca
SUMMARY:St. George’s Ward Meeting
DESCRIPTION:November 20\, 2016 \n2:00-4:00 PM \nSt. George’s Indian Band Building (upstairs) \n
URL:https://qalipu.ca/event/st-georges-ward-council-meeting/
CATEGORIES:Ward Meetings
ATTACH;FMTTYPE=image/jpeg:https://qalipu.ca/qalipu/wp-content/uploads/2016/02/12-Arlene-Blanchard.jpg
END:VEVENT
END:VCALENDAR