BEGIN:VCALENDAR
VERSION:2.0
PRODID:-//Qalipu - ECPv4.5.13//NONSGML v1.0//EN
CALSCALE:GREGORIAN
METHOD:PUBLISH
X-WR-CALNAME:Qalipu
X-ORIGINAL-URL:https://qalipu.ca
X-WR-CALDESC:Events for Qalipu
BEGIN:VEVENT
DTSTART;TZID=UTC-3.5:20190219T183000
DTEND;TZID=UTC-3.5:20190219T200000
DTSTAMP:20260419T192222
CREATED:20190206T182651Z
LAST-MODIFIED:20190207T151816Z
UID:10197-1550601000-1550606400@qalipu.ca
SUMMARY:St. George's Ward Meeting - Feb 19 2019
DESCRIPTION:
URL:https://qalipu.ca/event/st-georges-ward-meeting-feb-19-2019/
LOCATION:St. George's\, NL\, A0N 1Z0\, Canada
CATEGORIES:Ward Meetings
ATTACH;FMTTYPE=image/png:https://qalipu.ca/qalipu/wp-content/uploads/2019/02/STG_ward_meeting_feb2019.png
END:VEVENT
END:VCALENDAR