BEGIN:VCALENDAR
VERSION:2.0
PRODID:-//Qalipu - ECPv4.5.13//NONSGML v1.0//EN
CALSCALE:GREGORIAN
METHOD:PUBLISH
X-WR-CALNAME:Qalipu
X-ORIGINAL-URL:https://qalipu.ca
X-WR-CALDESC:Events for Qalipu
BEGIN:VEVENT
DTSTART;TZID=UTC-3.5:20190217T190000
DTEND;TZID=UTC-3.5:20190217T190000
DTSTAMP:20260420T000642
CREATED:20190207T161641Z
LAST-MODIFIED:20190207T161641Z
UID:10207-1550430000-1550430000@qalipu.ca
SUMMARY:Stephenville Ward Meeting - Feb 17\, 2019
DESCRIPTION:Located in the lecture hall – College of the North Atlantic\, Stephenville Campus \n
URL:https://qalipu.ca/event/stephenville-ward-meeting-feb-17-2019/
LOCATION:432 Massachusetts Dr.\, Stephenville\, NL\, A2N 3C1\, Canada
CATEGORIES:Ward Meetings
END:VEVENT
END:VCALENDAR