BEGIN:VCALENDAR
VERSION:2.0
PRODID:-//Qalipu - ECPv4.5.13//NONSGML v1.0//EN
CALSCALE:GREGORIAN
METHOD:PUBLISH
X-WR-CALNAME:Qalipu
X-ORIGINAL-URL:https://qalipu.ca
X-WR-CALDESC:Events for Qalipu
BEGIN:VEVENT
DTSTART;TZID=UTC-3.5:20191211T190000
DTEND;TZID=UTC-3.5:20191211T210000
DTSTAMP:20260419T125841
CREATED:20191122T173259Z
LAST-MODIFIED:20191210T172809Z
UID:11362-1576090800-1576098000@qalipu.ca
SUMMARY:Strategic Planning Community Consultations - Grand Falls
DESCRIPTION:
URL:https://qalipu.ca/event/strategic-planning-community-consultations-grand-falls/
LOCATION:214 Lincoln Rd\, Grand Falls\, Newfoundland\, A2A1P8\, Canada
CATEGORIES:General
ATTACH;FMTTYPE=image/png:https://qalipu.ca/qalipu/wp-content/uploads/2019/11/Strategic-Planning-Facebook-Event-Cover-Copy.png
END:VEVENT
END:VCALENDAR