BEGIN:VCALENDAR
VERSION:2.0
PRODID:-//Qalipu - ECPv4.5.13//NONSGML v1.0//EN
CALSCALE:GREGORIAN
METHOD:PUBLISH
X-WR-CALNAME:Qalipu
X-ORIGINAL-URL:https://qalipu.ca
X-WR-CALDESC:Events for Qalipu
BEGIN:VEVENT
DTSTART;TZID=UTC-3.5:20181123T093000
DTEND;TZID=UTC-3.5:20181123T093000
DTSTAMP:20260420T090756
CREATED:20181119T160249Z
LAST-MODIFIED:20181119T160249Z
UID:9806-1542965400-1542965400@qalipu.ca
SUMMARY:Swearing in Ceremony
DESCRIPTION:
URL:https://qalipu.ca/event/swearing-in-ceremony/
LOCATION:1 Canada Games Place\, Corner Brook\, NL\, A2H 6C9\, Canada
CATEGORIES:General
ATTACH;FMTTYPE=image/jpeg:https://qalipu.ca/qalipu/wp-content/uploads/2018/11/Swearing-in-Ceremony.jpg
END:VEVENT
END:VCALENDAR