BEGIN:VCALENDAR
VERSION:2.0
PRODID:-//Qalipu - ECPv4.5.13//NONSGML v1.0//EN
CALSCALE:GREGORIAN
METHOD:PUBLISH
X-WR-CALNAME:Qalipu
X-ORIGINAL-URL:https://qalipu.ca
X-WR-CALDESC:Events for Qalipu
BEGIN:VEVENT
DTSTART;TZID=UTC-3.5:20180131T173000
DTEND;TZID=UTC-3.5:20180131T173000
DTSTAMP:20260420T053439
CREATED:20180116T190908Z
LAST-MODIFIED:20180131T134239Z
UID:7834-1517419800-1517419800@qalipu.ca
SUMMARY:Cancelled: Sweat Lodge Ceremony - Mutchie Bennett
DESCRIPTION:This event has been canceled due to weather conditions. \n  \nThere will be a sweat lodge ceremony at Mutchie Bennett’s in Seal Cove Stephenville Crossing on January 31st at 5:30pm followed by potluck feast\nAll are welcome\nAny questions please feel free to email Bobby at r.white1@live.ca \n
URL:https://qalipu.ca/event/sweat-lodge-ceremony-mutchie-bennett/
CATEGORIES:General
END:VEVENT
END:VCALENDAR