BEGIN:VCALENDAR
VERSION:2.0
PRODID:-//Qalipu - ECPv4.5.13//NONSGML v1.0//EN
CALSCALE:GREGORIAN
METHOD:PUBLISH
X-WR-CALNAME:Qalipu
X-ORIGINAL-URL:https://qalipu.ca
X-WR-CALDESC:Events for Qalipu
BEGIN:VEVENT
DTSTART;TZID=UTC-2.5:20160916T193000
DTEND;TZID=UTC-2.5:20160916T193000
DTSTAMP:20260420T073032
CREATED:20160912T133300Z
LAST-MODIFIED:20160912T133300Z
UID:5229-1474054200-1474054200@qalipu.ca
SUMMARY:Take Back the Night
DESCRIPTION:
URL:https://qalipu.ca/event/take-back-the-night/
CATEGORIES:General
ATTACH;FMTTYPE=image/jpeg:https://qalipu.ca/qalipu/wp-content/uploads/2016/09/Take-Back-the-Night-poster-2016-Revised-page-001.jpg
END:VEVENT
END:VCALENDAR