BEGIN:VCALENDAR
VERSION:2.0
PRODID:-//Qalipu - ECPv4.5.13//NONSGML v1.0//EN
CALSCALE:GREGORIAN
METHOD:PUBLISH
X-WR-CALNAME:Qalipu
X-ORIGINAL-URL:https://qalipu.ca
X-WR-CALDESC:Events for Qalipu
BEGIN:VEVENT
DTSTART;VALUE=DATE:20161010
DTEND;VALUE=DATE:20161010
DTSTAMP:20260420T014546
CREATED:20161004T132131Z
LAST-MODIFIED:20161004T163500Z
UID:5314-1476057600-1476143999@qalipu.ca
SUMMARY:Tanya Tagaq Newfoundland debut
DESCRIPTION:Dates:\nOctober 12 in Corner Brook Arts and Culture Centre\nOctober 10 in St. John’s Arts and Culture Centre \nPolaris Music Prize winner Tanya Tagaq is making her Newfoundland debut.  Originally from Nunavut\, Tagaq is an improvisational performer\, avant-garde composer and experimental recording artist whose music defies categorization\, fusing elements of punk\, metal\, and electronica. Tanya’s sound challenges static ideas of genre and culture\, and contends with themes of environmentalism\, human rights and post-colonial issues. This will be the first time that Tagaq will perform in Newfoundland\, though she has been touring and collaborating with an elite international circle of artists for over a decade. \nTagaq has received much critical praise and recognition for her innovative and powerful  album Animism\, including a Juno Award in 2015\, Canadian Folk Music Award\, Western Canadian Music Association Awards\, and the prestigious Polaris Music Prize. \nTickets are $30.00 and we are pleased to be able to offer a group rate of $20.00 for groups of 10 or more. \nThere will also be a meet and greet after the show where you will get a chance to mingle with this amazing performer. \nPlease call today to reserve your seats. 637-2580 \nClick here to view the artists online contact information \n
URL:https://qalipu.ca/event/tanya-tagaq-newfoundland-debut/
CATEGORIES:General
ATTACH;FMTTYPE=image/jpeg:https://qalipu.ca/qalipu/wp-content/uploads/2016/10/FINAL_Tanya_Tagaq_ACC_MUN_Press-Release_2016_Page_1.jpg
END:VEVENT
END:VCALENDAR