BEGIN:VCALENDAR
VERSION:2.0
PRODID:-//Qalipu - ECPv4.5.13//NONSGML v1.0//EN
CALSCALE:GREGORIAN
METHOD:PUBLISH
X-WR-CALNAME:Qalipu
X-ORIGINAL-URL:https://qalipu.ca
X-WR-CALDESC:Events for Qalipu
BEGIN:VEVENT
DTSTART;VALUE=DATE:20210312
DTEND;VALUE=DATE:20210312
DTSTAMP:20260419T224854
CREATED:20210226T154553Z
LAST-MODIFIED:20210226T154553Z
UID:13398-1615507200-1615593599@qalipu.ca
SUMMARY:The Atlantic-IMN Graduate Student Seminar Series
DESCRIPTION:The Atlantic-IMN has partnered with Dr. Jason Hickey from the UNB to create a Graduate Student Seminar Series within the Atlantic region. Events will include (but are not limited to): presentations from students\, webinars\, writing and skill-building workshops\, as well as informal spaces for connecting. Specific events will be open to both Indigenous and non-Indigenous graduate students doing Indigenous health research in the region\, with some events being spaces for Indigenous graduate students only. We are inviting graduate students to our inaugural event – 3-minute research presentations from students happening on March 12th from 2pm-4pm ATL. Come join us for this opportunity to gain valuable feedback on your research as well as network with other graduate students in the region! To sign up for this event\, you can click on the link here (https://www.eventbrite.ca/e/atlantic-imn-graduate-student-seminar-research-presentations-tickets-142094417227) . Spaces limited. \n
URL:https://qalipu.ca/event/the-atlantic-imn-graduate-student-seminar-series/
ATTACH;FMTTYPE=image/png:https://qalipu.ca/qalipu/wp-content/uploads/2021/02/Atlantic-IMN-3-Minute-Research-Presentations-Final.png
END:VEVENT
END:VCALENDAR