BEGIN:VCALENDAR
VERSION:2.0
PRODID:-//Qalipu - ECPv4.5.13//NONSGML v1.0//EN
CALSCALE:GREGORIAN
METHOD:PUBLISH
X-WR-CALNAME:Qalipu
X-ORIGINAL-URL:https://qalipu.ca
X-WR-CALDESC:Events for Qalipu
BEGIN:VEVENT
DTSTART;VALUE=DATE:20190201
DTEND;VALUE=DATE:20190201
DTSTAMP:20260419T232635
CREATED:20181127T144724Z
LAST-MODIFIED:20181127T144724Z
UID:9889-1548979200-1549065599@qalipu.ca
SUMMARY:Two Seats Saved: Deadline February 1\, 2019
DESCRIPTION:
URL:https://qalipu.ca/event/two-seats-saved-deadline-february-1-2019/
CATEGORIES:General
ATTACH;FMTTYPE=image/jpeg:https://qalipu.ca/qalipu/wp-content/uploads/2018/11/Ds8WCZIX4AAYqzw.jpg
END:VEVENT
END:VCALENDAR