BEGIN:VCALENDAR
VERSION:2.0
PRODID:-//Qalipu - ECPv4.5.13//NONSGML v1.0//EN
CALSCALE:GREGORIAN
METHOD:PUBLISH
X-WR-CALNAME:Qalipu
X-ORIGINAL-URL:https://qalipu.ca
X-WR-CALDESC:Events for Qalipu
BEGIN:VEVENT
DTSTART;VALUE=DATE:20170714
DTEND;VALUE=DATE:20170714
DTSTAMP:20260419T194952
CREATED:20170502T140206Z
LAST-MODIFIED:20170607T151311Z
UID:6644-1499990400-1500076799@qalipu.ca
SUMMARY:Ulnooweg Summer Solstice Run
DESCRIPTION:Welcome to the inaugural Ulnooweg 5km Summer Solstice Run Newfoundland & Labrador event in Flat Bay\, Newfoundland. Our Summer Solstice run will be kicking off on the Bay St George Powwow grounds located in Flat Bay on July 14th. The YMCA and Bay St. George Mi’kmaq Revival committee are proud to partner with Ulnooweg to make this run/walk happen. \nThe event marks the second of two running events hosted by Ulnooweg to kick off the summer.\nPlease join our running community in celebrating healthy living and promoting the spirit of Truth and Reconciliation.\nTo receive your custom shirt of choice\, please register by June 27th\, 2017.\nAs our inaugural event\, we will be capping our registration\, so please register early!\nWalkers welcomed! \nNo refunds. \n
URL:https://qalipu.ca/event/ulnooweg-summer-solstice-run/
LOCATION:Flat Bay\, NL\, A0N 1N0\, Canada
CATEGORIES:General
ATTACH;FMTTYPE=image/jpeg:https://qalipu.ca/qalipu/wp-content/uploads/2017/05/Summer-Solstice-Run.jpg
END:VEVENT
END:VCALENDAR