BEGIN:VCALENDAR
VERSION:2.0
PRODID:-//Qalipu - ECPv4.5.13//NONSGML v1.0//EN
CALSCALE:GREGORIAN
METHOD:PUBLISH
X-WR-CALNAME:Qalipu
X-ORIGINAL-URL:https://qalipu.ca
X-WR-CALDESC:Events for Qalipu
BEGIN:VEVENT
DTSTART;TZID=UTC-2.5:20210317T200000
DTEND;TZID=UTC-2.5:20210317T210000
DTSTAMP:20260419T134405
CREATED:20210312T130405Z
LAST-MODIFIED:20210312T130742Z
UID:13504-1616011200-1616014800@qalipu.ca
SUMMARY:Unpacking Mi'kmaq Identity
DESCRIPTION:Sometimes you might feel too intimidated to do anything cultural because you don’t “look native” or feel “native enough”. Judy White (Mi’kmaq Lawyer) and Robert Leamon (Mi’kmaq Activist) will be joining us to talk about that \nEvent: Unpacking Mi’kmaq Identity – Wednesday\, March 17th 8-9 PM NST \n*For Mi’kmaq youth 15-30 years old \nRegister here: https://www.eventbrite.ca/e/unpacking-mikmaq-identity-tickets-144278774699 \n
URL:https://qalipu.ca/event/unpacking-mikmaq-identity/
ATTACH;FMTTYPE=image/png:https://qalipu.ca/qalipu/wp-content/uploads/2021/03/Copy-of-Facebook-event-banner-1.png
END:VEVENT
END:VCALENDAR