BEGIN:VCALENDAR
VERSION:2.0
PRODID:-//Qalipu - ECPv4.5.13//NONSGML v1.0//EN
CALSCALE:GREGORIAN
METHOD:PUBLISH
X-WR-CALNAME:Qalipu
X-ORIGINAL-URL:https://qalipu.ca
X-WR-CALDESC:Events for Qalipu
BEGIN:VEVENT
DTSTART;TZID=UTC-2.5:20161211T130000
DTEND;TZID=UTC-2.5:20161211T150000
DTSTAMP:20260419T230644
CREATED:20161103T133253Z
LAST-MODIFIED:20161103T133253Z
UID:5543-1481461200-1481468400@qalipu.ca
SUMMARY:Visit from Santa
DESCRIPTION:
URL:https://qalipu.ca/event/visit-from-santa/
LOCATION:St. George's\, NL\, Canada
CATEGORIES:General
ATTACH;FMTTYPE=image/jpeg:https://qalipu.ca/qalipu/wp-content/uploads/2016/11/Christmas-Party-2016.jpg
END:VEVENT
END:VCALENDAR