BEGIN:VCALENDAR
VERSION:2.0
PRODID:-//Qalipu - ECPv4.5.13//NONSGML v1.0//EN
CALSCALE:GREGORIAN
METHOD:PUBLISH
X-WR-CALNAME:Qalipu
X-ORIGINAL-URL:https://qalipu.ca
X-WR-CALDESC:Events for Qalipu
BEGIN:VEVENT
DTSTART;VALUE=DATE:20170114
DTEND;VALUE=DATE:20170201
DTSTAMP:20260419T165341
CREATED:20160803T133838Z
LAST-MODIFIED:20160803T133838Z
UID:5057-1484352000-1485993599@qalipu.ca
SUMMARY:Walking With Our Sisters
DESCRIPTION:
URL:https://qalipu.ca/event/walking-with-our-sisters/
LOCATION:Halifax\, NS\, Canada
CATEGORIES:General
ATTACH;FMTTYPE=image/jpeg:https://qalipu.ca/qalipu/wp-content/uploads/2016/08/Poster-web.jpg
END:VEVENT
END:VCALENDAR