BEGIN:VCALENDAR
VERSION:2.0
PRODID:-//Qalipu - ECPv4.5.13//NONSGML v1.0//EN
CALSCALE:GREGORIAN
METHOD:PUBLISH
X-WR-CALNAME:Qalipu
X-ORIGINAL-URL:https://qalipu.ca
X-WR-CALDESC:Events for Qalipu
BEGIN:VEVENT
DTSTART;TZID=UTC-3.5:20180307T130000
DTEND;TZID=UTC-3.5:20180307T150000
DTSTAMP:20260419T141811
CREATED:20180228T125925Z
LAST-MODIFIED:20180301T133652Z
UID:8195-1520427600-1520434800@qalipu.ca
SUMMARY:Waltes Demonstration Seniors' Social - People of the Dawn Indigenous Friendship Center
DESCRIPTION:
URL:https://qalipu.ca/event/waltes-demonstration-seniors-social-people-of-the-dawn-indigenous-friendship-center/
LOCATION:329 Main Street\, St. George's\, Newfoundland and Labrador\, Canada
CATEGORIES:General
END:VEVENT
END:VCALENDAR