BEGIN:VCALENDAR
VERSION:2.0
PRODID:-//Qalipu - ECPv4.5.13//NONSGML v1.0//EN
CALSCALE:GREGORIAN
METHOD:PUBLISH
X-WR-CALNAME:Qalipu
X-ORIGINAL-URL:https://qalipu.ca
X-WR-CALDESC:Events for Qalipu
BEGIN:VEVENT
DTSTART;TZID=UTC-3.5:20171017T183000
DTEND;TZID=UTC-3.5:20171017T200000
DTSTAMP:20260421T021917
CREATED:20171017T122535Z
LAST-MODIFIED:20171017T123849Z
UID:7442-1508265000-1508270400@qalipu.ca
SUMMARY:Weekly Drumming - People of the Dawn
DESCRIPTION:For more information\, please visit the People of the Dawn Friendship Centre website here: http://pdifc.com/ \n
URL:https://qalipu.ca/event/weekly-drumming-people-of-the-dawn/
CATEGORIES:General
END:VEVENT
END:VCALENDAR