BEGIN:VCALENDAR
VERSION:2.0
PRODID:-//Qalipu - ECPv4.5.13//NONSGML v1.0//EN
CALSCALE:GREGORIAN
METHOD:PUBLISH
X-WR-CALNAME:Qalipu
X-ORIGINAL-URL:https://qalipu.ca
X-WR-CALDESC:Events for Qalipu
BEGIN:VEVENT
DTSTART;VALUE=DATE:20171221
DTEND;VALUE=DATE:20171221
DTSTAMP:20260420T001103
CREATED:20171218T132451Z
LAST-MODIFIED:20171222T124711Z
UID:7729-1513814400-1513900799@qalipu.ca
SUMMARY:Cancelled - Winter Equinox Sweatlodge ceremony at Mutchie Bennett's in Stephenville Crossing
DESCRIPTION:This event has been canceled due to inclement weather. \n  \nWinter Equinox Sweatlodge ceremony at Mutchie Bennett’s in Stephenville Crossing\nThursday Dec 21st\nCrawl in is 3:45pm\nPotluck feast at 6pm at Stephenville Crossing firehall\nAll are welcome\nAny questions please feel free to ask\nMsit no’kmaq \n
URL:https://qalipu.ca/event/winter-equinox-sweatlodge-ceremony-at-mutchie-bennetts-in-stephenville-crossing/
CATEGORIES:General
END:VEVENT
END:VCALENDAR