BEGIN:VCALENDAR
VERSION:2.0
PRODID:-//Qalipu - ECPv4.5.13//NONSGML v1.0//EN
CALSCALE:GREGORIAN
METHOD:PUBLISH
X-WR-CALNAME:Qalipu
X-ORIGINAL-URL:https://qalipu.ca
X-WR-CALDESC:Events for Qalipu
BEGIN:VEVENT
DTSTART;TZID=UTC-3.5:20180221T180000
DTEND;TZID=UTC-3.5:20180222T200000
DTSTAMP:20260419T185828
CREATED:20180130T144810Z
LAST-MODIFIED:20180130T144810Z
UID:7924-1519236000-1519329600@qalipu.ca
SUMMARY:Workshop—Craft Making
DESCRIPTION:Jilaqami’mu’tieg – ‘We make snowshoe tracks’ program is designed to engage participants in traditional knowledge and snowshoe making. The Qalipu Cultural Foundation has\npartnered with the Thomas Howe Demonstration Forest to host a free snowshoe making workshop and fitness class in the Gander at the Thomas Howe Demonstration Forest\nCentre. \n
URL:https://qalipu.ca/event/workshop-craft-making-3/
CATEGORIES:General
ATTACH;FMTTYPE=image/jpeg:https://qalipu.ca/qalipu/wp-content/uploads/2018/01/Gander-Snowshoe-Making-Poster-002.jpg
END:VEVENT
END:VCALENDAR