BEGIN:VCALENDAR
VERSION:2.0
PRODID:-//Qalipu - ECPv4.5.13//NONSGML v1.0//EN
CALSCALE:GREGORIAN
METHOD:PUBLISH
X-WR-CALNAME:Qalipu
X-ORIGINAL-URL:https://qalipu.ca
X-WR-CALDESC:Events for Qalipu
BEGIN:VEVENT
DTSTART;VALUE=DATE:20161128
DTEND;VALUE=DATE:20161201
DTSTAMP:20260419T211051
CREATED:20161014T141706Z
LAST-MODIFIED:20161014T141706Z
UID:5384-1480291200-1480636799@qalipu.ca
SUMMARY:Young Entrepreneurs Symposium
DESCRIPTION:
URL:https://qalipu.ca/event/young-entrepreneurs-symposium/
LOCATION:Toronto\, ON\, Canada
CATEGORIES:General
ATTACH;FMTTYPE=image/jpeg:https://qalipu.ca/qalipu/wp-content/uploads/2016/10/Yes-Poster.jpg
END:VEVENT
END:VCALENDAR