BEGIN:VCALENDAR
VERSION:2.0
PRODID:-//Qalipu - ECPv4.5.13//NONSGML v1.0//EN
CALSCALE:GREGORIAN
METHOD:PUBLISH
X-WR-CALNAME:Qalipu
X-ORIGINAL-URL:https://qalipu.ca
X-WR-CALDESC:Events for Qalipu
BEGIN:VEVENT
DTSTART;VALUE=DATE:20221007
DTEND;VALUE=DATE:20221010
DTSTAMP:20260424T023054
CREATED:20220926T130145Z
LAST-MODIFIED:20220926T130245Z
UID:15762-1665100800-1665446399@qalipu.ca
SUMMARY:Youth Mentorship Land-Based Camp
DESCRIPTION: \n
URL:https://qalipu.ca/event/youth-mentorship-land-based-camp/
END:VEVENT
END:VCALENDAR