BEGIN:VCALENDAR
VERSION:2.0
PRODID:-//Qalipu - ECPv4.5.13//NONSGML v1.0//EN
CALSCALE:GREGORIAN
METHOD:PUBLISH
X-WR-CALNAME:Qalipu
X-ORIGINAL-URL:https://qalipu.ca
X-WR-CALDESC:Events for Qalipu
BEGIN:VEVENT
DTSTART;VALUE=DATE:20170610
DTEND;VALUE=DATE:20170610
DTSTAMP:20260426T020909
CREATED:20170526T130931Z
LAST-MODIFIED:20170526T130931Z
UID:6754-1497052800-1497139199@qalipu.ca
SUMMARY:Empowering the Real Me - Corner Brook
DESCRIPTION:
URL:https://qalipu.ca/event/empowering-the-real-me-corner-brook/
CATEGORIES:General
ATTACH;FMTTYPE=image/jpeg:https://qalipu.ca/qalipu/wp-content/uploads/2017/05/Workshop-Poster.jpg
END:VEVENT
BEGIN:VEVENT
DTSTART;TZID=UTC-3.5:20170610T100000
DTEND;TZID=UTC-3.5:20170610T100000
DTSTAMP:20260426T020909
CREATED:20170605T171620Z
LAST-MODIFIED:20180716T124220Z
UID:6849-1497088800-1497088800@qalipu.ca
SUMMARY:Council Meeting - June 10
DESCRIPTION:If you wish to attend this meeting please register with Mabel MacDonald by email mmacdonald@qalipu.ca or by phone 709-634-5111. Deadline to register is 12:00 pm Friday June\, 9th. \nCouncil Meetings are open members only. Please present your membership cards upon arrival for admission \n
URL:https://qalipu.ca/event/council-meeting-june-10/
LOCATION:1 Church Street\, Corner Brook\, NL\, A2H 2Z4\, Canada
CATEGORIES:Council Meeting
ATTACH;FMTTYPE=image/jpeg:https://qalipu.ca/qalipu/wp-content/uploads/2016/08/meeting.jpeg
END:VEVENT
END:VCALENDAR