BEGIN:VCALENDAR
VERSION:2.0
PRODID:-//Qalipu - ECPv4.5.13//NONSGML v1.0//EN
CALSCALE:GREGORIAN
METHOD:PUBLISH
X-WR-CALNAME:Qalipu
X-ORIGINAL-URL:https://qalipu.ca
X-WR-CALDESC:Events for Qalipu
BEGIN:VEVENT
DTSTART;VALUE=DATE:20170619
DTEND;VALUE=DATE:20170624
DTSTAMP:20260426T020957
CREATED:20170614T174146Z
LAST-MODIFIED:20170616T113518Z
UID:6960-1497830400-1498348799@qalipu.ca
SUMMARY:National Aboriginal Day - Corner Brook
DESCRIPTION:Monday\, June 19\n10:00am Mi’kmaq Flag Raising at Corner Brook City Hall with formal Greetings\n11:00am Mi’kmaq Flag Raising at Royal Newfoundland Constabulary Corner Brook Regional Office\n11:30am Mi’kmaq Flag Raising at Grenfell University \nWednesday\, June 21 National Aboriginal Day\n6:00am Sun raise ceremony at Margaret Bowater Park\n7:00am Light Breakfast at 1 Church St. (Qalipu Community Room)\n11:00am & 2:00pm Medicine Walk\n10am – 2:00pm Royal Newfoundland Constabulary Squad Car\n10:30am – 2:00pm Wampum Belt Crafting and Demo\n10:30am Drum Making Demo\n10:30am – 2:00pm Aboriginal Artists and Crafts Vendor Tables\n11:00am Little Planters (While Supplies Last)\n11:30am – 1:30pm BBQ\n12:00pm Cake Cutting & Welcoming\n1:00pm – 3:00pm Music and Sharing \nJune 17 to 24\, 2017\nRotary Art Centre – Open Gallery\nAboriginal Artist and Craft Persons Exhibition \nCommunity Happenings\nTina Dolter Gallery – Rotary Arts Centre\nEmerging artist Melissa Tremblett first solo show entitled: 1876 changed my life. \nJune 12th-July 13th.\nReception on June 16th 4pm-6pm.\nArtist Talk on July 8th\, 11am.\nDescription: 1876 changed my life is a mixed media installation focusing on the effects of colonialism on Indigenous people. Drawn from personal experience\, Melissa Tremblett uses the process of making art to create conversation and promote healing. \nRotary Arts Centre\nMeagan Musseau will be doing an artist talk titled “Indigeneity\, Intermedia and land-based practice” on June 24th at 11am.\nGreen Roof – Corner Brook City Hall\nMeagan Musseau will be doing a performance piece titled “Do Not Cross | Status Line” on July 4th at 4pm. \nGrenfell Campus Art Gallery\nJordan Bennett Wije’wi (Come With Me) \nJune 17th—September 16th\nReception on June 17th 4:30pm—6pm\nDescription: The artist uses known Beothuk and Mi’kmaq visual patterns\, symbols and colours to create landscapes which represent the island of Ktaqamkuk (Newfoundland). \n
URL:https://qalipu.ca/event/national-aboriginal-day-corner-brook/
CATEGORIES:General
ATTACH;FMTTYPE=image/jpeg:https://qalipu.ca/qalipu/wp-content/uploads/2017/06/NAD-POSTER.jpg
END:VEVENT
BEGIN:VEVENT
DTSTART;TZID=UTC-3.5:20170619T080000
DTEND;TZID=UTC-3.5:20170621T170000
DTSTAMP:20260426T020957
CREATED:20170608T124745Z
LAST-MODIFIED:20170608T124745Z
UID:6886-1497859200-1498064400@qalipu.ca
SUMMARY:National Aboriginal Day Celebrations
DESCRIPTION:
URL:https://qalipu.ca/event/national-aboriginal-day-celebrations/
CATEGORIES:General
ATTACH;FMTTYPE=image/jpeg:https://qalipu.ca/qalipu/wp-content/uploads/2017/06/2017-NAD-Celebrations-June-19-21.jpg
END:VEVENT
BEGIN:VEVENT
DTSTART;VALUE=DATE:20170621
DTEND;VALUE=DATE:20170621
DTSTAMP:20260426T020957
CREATED:20170524T141528Z
LAST-MODIFIED:20170524T142920Z
UID:6735-1498003200-1498089599@qalipu.ca
SUMMARY:Aboriginal Health Symposium
DESCRIPTION:Memorial University is hosting its inaugural Aboriginal Health Symposium on National Aboriginal Day\, June 21\, 2017. \nThis half day symposium will showcase Aboriginal education and research taking place at Memorial University of Newfoundland. \nIt will feature keynote speaker Dr. Michael Dan.  Dr. Dan is a former neurosurgeon and one of Ontario’s most generous philanthropists\, supporting hospitals\, local charities\, First Nations health\, and human rights initiatives.  Dr. Dan’s presentation is entitled The impact of colonization on the health of Indigenous people in Canada. \nIn addition\, the symposium will feature oral and poster presentation of research related to Aboriginal health. \nThe symposium will take place from 1 p.m.-4:30 p.m. in the Dr. Richard Fagan Lecture Theatre\, room 1M101\, Faculty of Medicine\, Memorial University of Newfoundland. \nRegistration is available through the Office of Professional Development\, by visiting www.med.mun.ca/opd/programs/info.asp?id=4008.  To register you must have an OPD user account. If you need to create an account\, you can do so using the “Create Account” option on the menu of the registration page for your session. \nPlease kindly confirm your attendance by registering before June 14\, 2017. \n
URL:https://qalipu.ca/event/aboriginal-health-symposium/
LOCATION:230 Elizabeth Ave\, St. John's\, NL\, A1B 3X9\, Canada
CATEGORIES:General
END:VEVENT
BEGIN:VEVENT
DTSTART;VALUE=DATE:20170621
DTEND;VALUE=DATE:20170621
DTSTAMP:20260426T020957
CREATED:20170612T125939Z
LAST-MODIFIED:20170612T125939Z
UID:6915-1498003200-1498089599@qalipu.ca
SUMMARY:National Aboriginal Day - Bay St George
DESCRIPTION:
URL:https://qalipu.ca/event/national-aboriginal-day-bay-st-george/
CATEGORIES:General
ATTACH;FMTTYPE=image/jpeg:https://qalipu.ca/qalipu/wp-content/uploads/2017/06/Aboriginal-Day-Poster-St.-Georges-Indian-Band_Page_1.jpg
END:VEVENT
BEGIN:VEVENT
DTSTART;TZID=UTC-3.5:20170621T100000
DTEND;TZID=UTC-3.5:20170621T100000
DTSTAMP:20260426T020957
CREATED:20170614T115558Z
LAST-MODIFIED:20170614T171454Z
UID:6950-1498039200-1498039200@qalipu.ca
SUMMARY:National Aboriginal Day Celebrations-Badger
DESCRIPTION:There’s this massive movement that’s beautiful that is happening within Indigenous communities in Newfoundland & Labrador in 2017. \nThe Nadahamtuk Cultural Group of Badger invites you to join them for traditional teachings\, drumming\, singing\, crafts\, food and culture\, to celebrate National Aboriginal Day 2017. Special guests include\, Exploits Community Group and the Big Drum. \n10:00 am -June 21st\, 2017-  Avoca Collegiate\, Badger NL. \n
URL:https://qalipu.ca/event/national-aboriginal-day-celebrations-badger/
LOCATION:13 School Rd
CATEGORIES:General
ATTACH;FMTTYPE=image/jpeg:https://qalipu.ca/qalipu/wp-content/uploads/2017/06/NATIONAL-ABORIGINAL-DAY.jpg
END:VEVENT
BEGIN:VEVENT
DTSTART;TZID=UTC-3.5:20170621T110000
DTEND;TZID=UTC-3.5:20170621T110000
DTSTAMP:20260426T020957
CREATED:20170608T132312Z
LAST-MODIFIED:20170608T132345Z
UID:6896-1498042800-1498042800@qalipu.ca
SUMMARY:National Aboriginal Day celebrations Public
DESCRIPTION:
URL:https://qalipu.ca/event/national-aboriginal-day-celebrations-public/
LOCATION:811 Oceanview Drive\, Degrau\, NL\, A0N 1T1\, Canada
CATEGORIES:General
ATTACH;FMTTYPE=image/jpeg:https://qalipu.ca/qalipu/wp-content/uploads/2017/06/Mikmaw-Centre-schedule-2017summer.jpg
END:VEVENT
END:VCALENDAR