BEGIN:VCALENDAR
VERSION:2.0
PRODID:-//Qalipu - ECPv4.5.13//NONSGML v1.0//EN
CALSCALE:GREGORIAN
METHOD:PUBLISH
X-WR-CALNAME:Qalipu
X-ORIGINAL-URL:https://qalipu.ca
X-WR-CALDESC:Events for Qalipu
BEGIN:VEVENT
DTSTART;VALUE=DATE:20170813
DTEND;VALUE=DATE:20170820
DTSTAMP:20260425T232652
CREATED:20170328T142123Z
LAST-MODIFIED:20170328T143739Z
UID:6478-1502582400-1503273599@qalipu.ca
SUMMARY:Healers of Tomorrow Gathering
DESCRIPTION:
URL:https://qalipu.ca/event/healers-of-tomorrow-gathering/
LOCATION:20 University Dr.\, Corner Brook\, NL\, A2H 5G4\, Canada
CATEGORIES:General
ATTACH;FMTTYPE=image/jpeg:https://qalipu.ca/qalipu/wp-content/uploads/2017/03/Healers-Of-Tomorrow-poster2017-2.jpg
END:VEVENT
BEGIN:VEVENT
DTSTART;TZID=UTC-3.5:20170815T190000
DTEND;TZID=UTC-3.5:20170815T210000
DTSTAMP:20260425T232652
CREATED:20170804T143658Z
LAST-MODIFIED:20170815T143434Z
UID:7135-1502823600-1502830800@qalipu.ca
SUMMARY:Location Change: Generation Energy Moving Canada Forward - Flat Bay
DESCRIPTION:Tonight’s event has been relocated to 10 Band Road\, Flat Bay. \n
URL:https://qalipu.ca/event/generation-energy-moving-canada-forward-flat-bay/
LOCATION:NL
CATEGORIES:General
ATTACH;FMTTYPE=image/jpeg:https://qalipu.ca/qalipu/wp-content/uploads/2017/08/Poster.jpg
END:VEVENT
END:VCALENDAR