BEGIN:VCALENDAR
VERSION:2.0
PRODID:-//Qalipu - ECPv4.5.13//NONSGML v1.0//EN
CALSCALE:GREGORIAN
METHOD:PUBLISH
X-WR-CALNAME:Qalipu
X-ORIGINAL-URL:https://qalipu.ca
X-WR-CALDESC:Events for Qalipu
BEGIN:VEVENT
DTSTART;VALUE=DATE:20170813
DTEND;VALUE=DATE:20170820
DTSTAMP:20260425T232600
CREATED:20170328T142123Z
LAST-MODIFIED:20170328T143739Z
UID:6478-1502582400-1503273599@qalipu.ca
SUMMARY:Healers of Tomorrow Gathering
DESCRIPTION:
URL:https://qalipu.ca/event/healers-of-tomorrow-gathering/
LOCATION:20 University Dr.\, Corner Brook\, NL\, A2H 5G4\, Canada
CATEGORIES:General
ATTACH;FMTTYPE=image/jpeg:https://qalipu.ca/qalipu/wp-content/uploads/2017/03/Healers-Of-Tomorrow-poster2017-2.jpg
END:VEVENT
BEGIN:VEVENT
DTSTART;TZID=UTC-3.5:20170816T130000
DTEND;TZID=UTC-3.5:20170816T150000
DTSTAMP:20260425T232600
CREATED:20170804T143914Z
LAST-MODIFIED:20170809T135128Z
UID:7137-1502888400-1502895600@qalipu.ca
SUMMARY:Generation Energy Moving Canada Forward - Stephenville
DESCRIPTION:
URL:https://qalipu.ca/event/generation-energy-moving-canada-forward-stephenville/
LOCATION:44 Queen St.\, Stephenville\, NL\, A2N 2M5\, Canada
CATEGORIES:General
ATTACH;FMTTYPE=image/jpeg:https://qalipu.ca/qalipu/wp-content/uploads/2017/08/Poster.jpg
END:VEVENT
BEGIN:VEVENT
DTSTART;TZID=UTC-3.5:20170816T183000
DTEND;TZID=UTC-3.5:20170816T203000
DTSTAMP:20260425T232600
CREATED:20170816T125110Z
LAST-MODIFIED:20170817T102151Z
UID:7180-1502908200-1502915400@qalipu.ca
SUMMARY:People of the Dawn Indigenous Friendship Center
DESCRIPTION:
URL:https://qalipu.ca/event/people-of-the-dawn-indigenous-friendship-center/
LOCATION:329 Main Street\, St. George's\, Newfoundland and Labrador\, Canada
CATEGORIES:General
ATTACH;FMTTYPE=image/jpeg:https://qalipu.ca/qalipu/wp-content/uploads/2017/08/Peopleofthedawn.jpg
END:VEVENT
BEGIN:VEVENT
DTSTART;TZID=UTC-3.5:20170816T190000
DTEND;TZID=UTC-3.5:20170816T210000
DTSTAMP:20260425T232600
CREATED:20170804T144210Z
LAST-MODIFIED:20170809T135158Z
UID:7139-1502910000-1502917200@qalipu.ca
SUMMARY:Generation Energy Moving Canada Forward - St. George's
DESCRIPTION:
URL:https://qalipu.ca/event/generation-energy-moving-canada-forward-st-georges/
LOCATION:183 Main Street\, St. George's\, NL\, Canada
CATEGORIES:General
ATTACH;FMTTYPE=image/jpeg:https://qalipu.ca/qalipu/wp-content/uploads/2017/08/Poster.jpg
END:VEVENT
END:VCALENDAR