BEGIN:VCALENDAR
VERSION:2.0
PRODID:-//Qalipu - ECPv4.5.13//NONSGML v1.0//EN
CALSCALE:GREGORIAN
METHOD:PUBLISH
X-WR-CALNAME:Qalipu
X-ORIGINAL-URL:https://qalipu.ca
X-WR-CALDESC:Events for Qalipu
BEGIN:VEVENT
DTSTART;VALUE=DATE:20170925
DTEND;VALUE=DATE:20170925
DTSTAMP:20260425T215410
CREATED:20170906T113009Z
LAST-MODIFIED:20170906T113214Z
UID:7252-1506297600-1506383999@qalipu.ca
SUMMARY:End Elder Abuse - Let's Talk! Badger
DESCRIPTION:
URL:https://qalipu.ca/event/end-elder-abuse-lets-talk-badger/
CATEGORIES:General
ATTACH;FMTTYPE=image/jpeg:https://qalipu.ca/qalipu/wp-content/uploads/2017/09/Elder-Abuse-2017-poster.jpg
END:VEVENT
BEGIN:VEVENT
DTSTART;TZID=UTC-3.5:20170925T183000
DTEND;TZID=UTC-3.5:20170925T183000
DTSTAMP:20260425T215410
CREATED:20170906T132448Z
LAST-MODIFIED:20170906T132448Z
UID:7271-1506364200-1506364200@qalipu.ca
SUMMARY:Apoqnmasi - Family Support Group
DESCRIPTION:
URL:https://qalipu.ca/event/apoqnmasi-family-support-group/
CATEGORIES:General
ATTACH;FMTTYPE=image/jpeg:https://qalipu.ca/qalipu/wp-content/uploads/2017/09/Apoqnmasi.jpg
END:VEVENT
END:VCALENDAR