BEGIN:VCALENDAR
VERSION:2.0
PRODID:-//Qalipu - ECPv4.5.13//NONSGML v1.0//EN
CALSCALE:GREGORIAN
METHOD:PUBLISH
X-WR-CALNAME:Qalipu
X-ORIGINAL-URL:https://qalipu.ca
X-WR-CALDESC:Events for Qalipu
BEGIN:VEVENT
DTSTART;TZID=UTC-3.5:20171104T103000
DTEND;TZID=UTC-3.5:20171104T150000
DTSTAMP:20260425T185816
CREATED:20170529T172756Z
LAST-MODIFIED:20170529T172756Z
UID:6784-1509791400-1509807600@qalipu.ca
SUMMARY:Ancestral Voices Youth Multicultural Workshops - Ancestral Wisdom
DESCRIPTION:
URL:https://qalipu.ca/event/ancestral-voices-youth-multicultural-workshops-ancestral-wisdom/
LOCATION:811 Oceanview Drive\, Degrau\, NL\, A0N 1T1\, Canada
CATEGORIES:General
ATTACH;FMTTYPE=image/jpeg:https://qalipu.ca/qalipu/wp-content/uploads/2017/05/Ancestral-Voices.jpg
END:VEVENT
BEGIN:VEVENT
DTSTART;TZID=UTC-3.5:20171104T110000
DTEND;TZID=UTC-3.5:20171104T110000
DTSTAMP:20260425T185816
CREATED:20171030T150345Z
LAST-MODIFIED:20171030T150345Z
UID:7522-1509793200-1509793200@qalipu.ca
SUMMARY:The Anglican Diocese of Central Newfoundland welcomes our National Indigenous Bishop: The Rt. Revd. Mark MacDonald to our diocese
DESCRIPTION:On Saturday\, November 4\, at 2pm at Holy Trinity Anglican Church\, Gander Bay Bishop \nMacDonald will give a public lecture: \nReconciliation and the Christian \nChurches \n In this talk Bishop MacDonald will trace some of the trajectory of healing in the Truth \nand Reconciliation process that is going on in Canada\, with a special focus on its \nmeaning for the church. \nThis will be an unique opportunity to hear and meet \nBishop MacDonald.  \n Some background information: \nThe Right Rev. Mark MacDonald became the Anglican Church of Canada’s first \nNational Indigenous Anglican Bishop in 2007\, after serving as bishop of the U.S. \nEpiscopal Diocese of Alaska for 10 years. \nHe is the board chair for Church Innovations\, Inc.\, and a third order Franciscan. \nAmong Bishop MacDonald’s published works are: \n\n“Native American Youth Ministries\,” co-authored with Dr. Carol Hampton and\n\npublished in Resource Book for Ministries with Youth and Young Adults\, the \nEpiscopal Church Center\, New York\, NY\, 1995 \n\n“It’s in the Font: Sacramental connections between faith and environment\,”\n\nSoundings\, July 6\, 1994\, Vol. 16\, No. 5 \n\nA Strategy for Growth for the Episcopal Church: Joining Multiculturalism and\n\nEvangelism\, Inter-Cultural Ministry Development\, San José\, Calif.\, 1994. \nBishop MacDonald has co-edited The Chant of Life: Inculturation and the People of the \nLand (Liturgical Studies IV)\, Church Publishing Company\, 2003. \nHe has also contributed to the following publications: \n\nHoly Ground: A Gathering of Voices on Caring for Creation\, ed. Lyndsay Moseley\,\n\nSierra Club Books\, 2008 \n\nEdinburgh 2010: Mission Today and Tomorrow\, ed. K. Kim and A. Anderson\, Regnum\n\nBooks\, 2011 \n\nLife-Widening Mission: Global Anglican Perspectives\, ed. Cathy Ross\, Regnum\n\nBooks\, 2012 \n\nThe Gospel after Christendom: New Voices\, New Cultures\, New Expressions\, ed.\n\nRyan Bolger\, Baker\, 2012 \n\nGreen Shoots out of Dry Ground: Growing a New Future for the Church in\n\nCanada\, ed. John Bowen\, Wipf and Stock\, 2013 \n
URL:https://qalipu.ca/event/the-anglican-diocese-of-central-newfoundland-welcomes-our-national-indigenous-bishop-the-rt-revd-mark-macdonald-to-our-diocese/
LOCATION:NL
CATEGORIES:General
ATTACH;FMTTYPE=image/jpeg:https://qalipu.ca/qalipu/wp-content/uploads/2017/10/Poster.jpg
END:VEVENT
BEGIN:VEVENT
DTSTART;TZID=UTC-3.5:20171104T180000
DTEND;TZID=UTC-3.5:20171104T180000
DTSTAMP:20260425T185816
CREATED:20171027T152425Z
LAST-MODIFIED:20171027T152425Z
UID:7506-1509818400-1509818400@qalipu.ca
SUMMARY:Building Bridges - Reception and Dinner
DESCRIPTION:
URL:https://qalipu.ca/event/building-bridges-reception-and-dinner/
LOCATION:2 Queen Street\, Grand Falls-Windsor\, NL\, A2A 1H7\, Canada
CATEGORIES:General
ATTACH;FMTTYPE=image/jpeg:https://qalipu.ca/qalipu/wp-content/uploads/2017/10/Dinner.jpg
ORGANIZER;CN="Dr.%20Boodhun":MAILTO:sadiqboodhun@gmail.com
END:VEVENT
END:VCALENDAR