BEGIN:VCALENDAR
VERSION:2.0
PRODID:-//Qalipu - ECPv4.5.13//NONSGML v1.0//EN
CALSCALE:GREGORIAN
METHOD:PUBLISH
X-WR-CALNAME:Qalipu
X-ORIGINAL-URL:https://qalipu.ca
X-WR-CALDESC:Events for Qalipu
BEGIN:VEVENT
DTSTART;TZID=UTC-3.5:20171209T093000
DTEND;TZID=UTC-3.5:20171209T150000
DTSTAMP:20260425T171708
CREATED:20171207T131746Z
LAST-MODIFIED:20171207T131757Z
UID:7691-1512811800-1512831600@qalipu.ca
SUMMARY:State of the Environment: Open Talk
DESCRIPTION:Please join us for presentations\, and an open discussion regarding the state of the environment in our communities.  Through talking and break-out sessions we will work toward solutions together. \nSaturday\, December 9 2017\n9:30 AM – 3:00 PM\nQalipu Community Room\n1 Church Street\, Corner Brook \nPlease RSVP to Mabel MacDonald at 634-5111 or email mmacdonald@qalipu.ca \n
URL:https://qalipu.ca/event/state-of-the-environment-open-talk/
LOCATION:1 Church Street\, Corner Brook\, NL\, A2H 2Z4\, Canada
CATEGORIES:General
ATTACH;FMTTYPE=image/jpeg:https://qalipu.ca/qalipu/wp-content/uploads/2017/12/Gray-Cheeked-Thrush.jpg
END:VEVENT
BEGIN:VEVENT
DTSTART;TZID=UTC-3.5:20171209T180000
DTEND;TZID=UTC-3.5:20171209T180000
DTSTAMP:20260425T171708
CREATED:20171204T153410Z
LAST-MODIFIED:20171204T153410Z
UID:7663-1512842400-1512842400@qalipu.ca
SUMMARY:Elders Social
DESCRIPTION:St. George’s Indian Band\nDecember 9\, 2017 \nRoyal Canadian Legion\n6:00 PM \n
URL:https://qalipu.ca/event/elders-social/
LOCATION:5 Steel Mountain Rd\, Saint George's\, NL\, A0N 1Z0\, Canada
CATEGORIES:General
END:VEVENT
END:VCALENDAR