BEGIN:VCALENDAR
VERSION:2.0
PRODID:-//Qalipu - ECPv4.5.13//NONSGML v1.0//EN
CALSCALE:GREGORIAN
METHOD:PUBLISH
X-WR-CALNAME:Qalipu
X-ORIGINAL-URL:https://qalipu.ca
X-WR-CALDESC:Events for Qalipu
BEGIN:VEVENT
DTSTART;TZID=UTC-3.5:20171210T130000
DTEND;TZID=UTC-3.5:20171210T150000
DTSTAMP:20260425T171552
CREATED:20171124T125753Z
LAST-MODIFIED:20171124T133010Z
UID:7626-1512910800-1512918000@qalipu.ca
SUMMARY:Stephenville Ward Meeting
DESCRIPTION:Sunday\, December 10\, 1-3 PM \nCollege of the North Atlantic\, DSB Fowlow lecture theatre\nStephenville \n
URL:https://qalipu.ca/event/stephenville-ward-meeting-2/
LOCATION:432 Massachusetts Dr.\, Stephenville\, NL\, A2N 3C1\, Canada
CATEGORIES:Ward Meetings
ATTACH;FMTTYPE=image/jpeg:https://qalipu.ca/qalipu/wp-content/uploads/2016/08/meeting.jpeg
END:VEVENT
BEGIN:VEVENT
DTSTART;TZID=UTC-3.5:20171210T180000
DTEND;TZID=UTC-3.5:20171210T180000
DTSTAMP:20260425T171552
CREATED:20171017T145500Z
LAST-MODIFIED:20171124T155416Z
UID:7456-1512928800-1512928800@qalipu.ca
SUMMARY:Christmas Social - Exploits Aboriginal Community Group
DESCRIPTION:December 10th \nIbex Fuels Recreation room\n46 Hardy Ave\nGrand Falls\, NL\nA2A 2J3 \n6PM \nPot Luck \n
URL:https://qalipu.ca/event/christmas-social-exploits-aboriginal-community-group/
LOCATION:NL
CATEGORIES:General
ATTACH;FMTTYPE=image/jpeg:https://qalipu.ca/qalipu/wp-content/uploads/2017/10/Social-2017.jpg
END:VEVENT
END:VCALENDAR