BEGIN:VCALENDAR
VERSION:2.0
PRODID:-//Qalipu - ECPv4.5.13//NONSGML v1.0//EN
CALSCALE:GREGORIAN
METHOD:PUBLISH
X-WR-CALNAME:Qalipu
X-ORIGINAL-URL:https://qalipu.ca
X-WR-CALDESC:Events for Qalipu
BEGIN:VEVENT
DTSTART;TZID=UTC-3.5:20180207T130000
DTEND;TZID=UTC-3.5:20180207T150000
DTSTAMP:20260425T135959
CREATED:20180126T124640Z
LAST-MODIFIED:20180202T125551Z
UID:7911-1518008400-1518015600@qalipu.ca
SUMMARY:Seniors' Social - People of the Dawn Indigenous Friendship Centre
DESCRIPTION:
URL:https://qalipu.ca/event/seniors-social-people-of-the-dawn/
LOCATION:90 Main Street\, Stephenville\, NL\, Canada
CATEGORIES:General
END:VEVENT
BEGIN:VEVENT
DTSTART;TZID=UTC-3.5:20180207T180000
DTEND;TZID=UTC-3.5:20180208T200000
DTSTAMP:20260425T135959
CREATED:20180126T162533Z
LAST-MODIFIED:20180126T162533Z
UID:7915-1518026400-1518120000@qalipu.ca
SUMMARY:Workshop - Craft Making
DESCRIPTION:
URL:https://qalipu.ca/event/workshop-craft-making/
LOCATION:NL
CATEGORIES:General
ATTACH;FMTTYPE=image/jpeg:https://qalipu.ca/qalipu/wp-content/uploads/2018/01/Gander-Snowshoe-Making-Poster-002.jpg
END:VEVENT
BEGIN:VEVENT
DTSTART;TZID=UTC-3.5:20180207T183000
DTEND;TZID=UTC-3.5:20180207T183000
DTSTAMP:20260425T135959
CREATED:20180125T134319Z
LAST-MODIFIED:20180125T134319Z
UID:7902-1518028200-1518028200@qalipu.ca
SUMMARY:The RCMP Are Hiring!
DESCRIPTION:
URL:https://qalipu.ca/event/the-rcmp-are-hiring/
LOCATION:183 Main Street\, St. George's\, NL\, Canada
CATEGORIES:General
ATTACH;FMTTYPE=image/jpeg:https://qalipu.ca/qalipu/wp-content/uploads/2018/01/Qalipu-First-Nation-RCMP-Recruiting-Session.jpg
END:VEVENT
BEGIN:VEVENT
DTSTART;TZID=UTC-3.5:20180207T190000
DTEND;TZID=UTC-3.5:20180207T210000
DTSTAMP:20260425T135959
CREATED:20180130T145953Z
LAST-MODIFIED:20180201T170608Z
UID:7933-1518030000-1518037200@qalipu.ca
SUMMARY:Focus Groups - Newfoundland Aboriginal Women’s Network and Status of Women Canada
DESCRIPTION:Flat Bay – St. Teresa’s & Area Communities\nLocation: People’s Complex \n
URL:https://qalipu.ca/event/focus-groups-newfoundland-aboriginal-womens-network-and-status-of-women-canada-3/
LOCATION:NL
CATEGORIES:General
ATTACH;FMTTYPE=image/jpeg:https://qalipu.ca/qalipu/wp-content/uploads/2018/01/Focus-Group-Dates-and-Locations.jpg
END:VEVENT
END:VCALENDAR