BEGIN:VCALENDAR
VERSION:2.0
PRODID:-//Qalipu - ECPv4.5.13//NONSGML v1.0//EN
CALSCALE:GREGORIAN
METHOD:PUBLISH
X-WR-CALNAME:Qalipu
X-ORIGINAL-URL:https://qalipu.ca
X-WR-CALDESC:Events for Qalipu
BEGIN:VEVENT
DTSTART;TZID=UTC-3.5:20180224T094500
DTEND;TZID=UTC-3.5:20180224T133000
DTSTAMP:20260425T140200
CREATED:20180219T145333Z
LAST-MODIFIED:20180219T145333Z
UID:8153-1519465500-1519479000@qalipu.ca
SUMMARY:Rally Protest - Ottawa
DESCRIPTION:
URL:https://qalipu.ca/event/rally-protest-ottawa/
LOCATION:453 Albert Street\, Ottawa\, ON\, K1R 7X4\, Canada
CATEGORIES:General
END:VEVENT
BEGIN:VEVENT
DTSTART;TZID=UTC-3.5:20180224T111500
DTEND;TZID=UTC-3.5:20180224T141500
DTSTAMP:20260425T140200
CREATED:20180219T143642Z
LAST-MODIFIED:20180219T143642Z
UID:8144-1519470900-1519481700@qalipu.ca
SUMMARY:Protest Rally - Corner Brook
DESCRIPTION:
URL:https://qalipu.ca/event/protest-rally-corner-brook/
LOCATION:1 Regent Square\, Corner Brook\, NL\, A2H 6J6\, Canada
CATEGORIES:General
END:VEVENT
BEGIN:VEVENT
DTSTART;TZID=UTC-3.5:20180224T111500
DTEND;TZID=UTC-3.5:20180224T141500
DTSTAMP:20260425T140200
CREATED:20180219T144926Z
LAST-MODIFIED:20180219T144926Z
UID:8149-1519470900-1519481700@qalipu.ca
SUMMARY:Rally Protest - Stephenville
DESCRIPTION:
URL:https://qalipu.ca/event/rally-protest-stephenville/
LOCATION:90 Minnesota Drive\, Stephenville\, NL\, A2N 3B4\, Canada
CATEGORIES:General
END:VEVENT
END:VCALENDAR