BEGIN:VCALENDAR
VERSION:2.0
PRODID:-//Qalipu - ECPv4.5.13//NONSGML v1.0//EN
CALSCALE:GREGORIAN
METHOD:PUBLISH
X-WR-CALNAME:Qalipu
X-ORIGINAL-URL:https://qalipu.ca
X-WR-CALDESC:Events for Qalipu
BEGIN:VEVENT
DTSTART;VALUE=DATE:20180324
DTEND;VALUE=DATE:20180331
DTSTAMP:20260425T122320
CREATED:20180319T145538Z
LAST-MODIFIED:20180319T145538Z
UID:8294-1521849600-1522540799@qalipu.ca
SUMMARY:Exploits Mawio’mi Fundraiser- Online Auction
DESCRIPTION:The 2018 Exploits Mawio’mi committee will be hosting an online Facebook auction beginning on March 24th and ending on March 31st. The money raised from this auction will be used to support the 2018 Exploits Mawio’mi \nPlease join in our online auction here:\nhttps://www.facebook.com/exploitsmawiomi/ (https://www.facebook.com/exploitsmawiomi/) \n
URL:https://qalipu.ca/event/exploits-mawiomi-fundraiser-online-auction/
CATEGORIES:General
END:VEVENT
BEGIN:VEVENT
DTSTART;TZID=UTC-3.5:20180328T153000
DTEND;TZID=UTC-3.5:20180328T153000
DTSTAMP:20260425T122320
CREATED:20180321T131053Z
LAST-MODIFIED:20180321T131207Z
UID:8324-1522251000-1522251000@qalipu.ca
SUMMARY:Youth Event - People of the Dawn Indigenous Friendship Center
DESCRIPTION:
URL:https://qalipu.ca/event/youth-event-people-of-the-dawn-indigenous-friendship-center/
LOCATION:329 Main Street\, St. George's\, Newfoundland and Labrador\, Canada
CATEGORIES:General
ATTACH;FMTTYPE=image/jpeg:https://qalipu.ca/qalipu/wp-content/uploads/2018/03/Youth-Poster.jpg
END:VEVENT
END:VCALENDAR