BEGIN:VCALENDAR
VERSION:2.0
PRODID:-//Qalipu - ECPv4.5.13//NONSGML v1.0//EN
CALSCALE:GREGORIAN
METHOD:PUBLISH
X-WR-CALNAME:Qalipu
X-ORIGINAL-URL:https://qalipu.ca
X-WR-CALDESC:Events for Qalipu
BEGIN:VEVENT
DTSTART;VALUE=DATE:20180806
DTEND;VALUE=DATE:20180810
DTSTAMP:20260425T041039
CREATED:20180710T150603Z
LAST-MODIFIED:20180710T150834Z
UID:9047-1533513600-1533945599@qalipu.ca
SUMMARY:Trade Fair Camp for Grades 10-12
DESCRIPTION:From August 6-10\, 2018\, the Qalipu First Nation and Miawpukek First Nation are partnering with the Operating Engineering College\, UA Local 740 Training Center\, Bricklayers College\, Iron Workers Training Center and the Carpenter Millwright College. Participants will have the opportunity to take part in a week-long camp in St. John’s that will expose them to a variety of industry driven trades such as Heavy Equipment\, plumbing/pipefitting\, bricklayers\, ironworkers\, carpentry\, and millwright. The camp is for students attending Grades 10-12 in the Fall of 2018. For youth who attend the Camp\, transportation\, accommodations and meals will be provided. \nQalipu First Nations and the various partners are inviting interested Indigenous youth from all wards to submit application forms by Wednesday\, July 18\, 2018. \nApplications to be submitted to and for additional detals:\nClick here for the application \nYvonne MacDonald\, Administrative Assistant\nQalipu First Nation\n183 Main Street\, P.O. Box 460\nSt. George’s\, NL\nA0N 1Z0\nEmail: ymacdonald@qalipu.ca\nPhone: (709) 647-3514\nFax: (709) 647-3068 \n
URL:https://qalipu.ca/event/trade-fair-camp-for-grades-10-12/
CATEGORIES:General
ATTACH;FMTTYPE=image/jpeg:https://qalipu.ca/qalipu/wp-content/uploads/2018/07/High-School-Trades-Camp-Poster-003.jpg
END:VEVENT
END:VCALENDAR